BEGIN:VCALENDAR
VERSION:2.0
PRODID:-//wp-events-plugin.com//7.2.3.1//EN
TZID:Europe/Berlin
X-WR-TIMEZONE:Europe/Berlin
BEGIN:VEVENT
UID:6-320@klaviercoach-berlin.de
DTSTART;TZID=Europe/Berlin:20261212T150000
DTEND;TZID=Europe/Berlin:20261212T163000
DTSTAMP:20260315T214104Z
URL:https://klaviercoach-berlin.de/events/solospiel-fuer-einsteiger-7/
SUMMARY:Solospiel für Einsteiger
DESCRIPTION:\n\n
ATTACH;FMTTYPE=image/jpeg:https://klaviercoach-berlin.de/wp-content/upload
 s/sites/6/2025/07/Klaviercoach-Berlin_Fotos-Sommerkonzerte8.jpg
CATEGORIES:Klavier-Workshops
LOCATION:Unterrichtsraum 1. Stock\, Schwedenstr. 14\, Berlin\, 13357\, Deut
 schland
X-APPLE-STRUCTURED-LOCATION;VALUE=URI;X-ADDRESS=Schwedenstr. 14\, Berlin\, 
 13357\, Deutschland;X-APPLE-RADIUS=100;X-TITLE=Unterrichtsraum 1. Stock:ge
 o:0,0
END:VEVENT
BEGIN:VTIMEZONE
TZID:Europe/Berlin
X-LIC-LOCATION:Europe/Berlin
BEGIN:STANDARD
DTSTART:20261025T020000
TZOFFSETFROM:+0200
TZOFFSETTO:+0100
TZNAME:CET
END:STANDARD
END:VTIMEZONE
END:VCALENDAR